BEGIN:VCALENDAR
VERSION:2.0
PRODID:-//Hendaye Culture - ECPv4.9.10//NONSGML v1.0//EN
CALSCALE:GREGORIAN
METHOD:PUBLISH
X-WR-CALNAME:Hendaye Culture
X-ORIGINAL-URL:https://www.hendaye-culture.fr
X-WR-CALDESC:Évènements pour Hendaye Culture
BEGIN:VTIMEZONE
TZID:Europe/Paris
BEGIN:DAYLIGHT
TZOFFSETFROM:+0100
TZOFFSETTO:+0200
TZNAME:CEST
DTSTART:20230326T010000
END:DAYLIGHT
BEGIN:STANDARD
TZOFFSETFROM:+0200
TZOFFSETTO:+0100
TZNAME:CET
DTSTART:20231029T010000
END:STANDARD
BEGIN:DAYLIGHT
TZOFFSETFROM:+0100
TZOFFSETTO:+0200
TZNAME:CEST
DTSTART:20240331T010000
END:DAYLIGHT
BEGIN:STANDARD
TZOFFSETFROM:+0200
TZOFFSETTO:+0100
TZNAME:CET
DTSTART:20241027T010000
END:STANDARD
END:VTIMEZONE
BEGIN:VEVENT
DTSTART;VALUE=DATE:20231220
DTEND;VALUE=DATE:20240128
DTSTAMP:20260425T035908
CREATED:20231212T135701Z
LAST-MODIFIED:20231220T081347Z
UID:43276-1703030400-1706399999@www.hendaye-culture.fr
SUMMARY:EXPO : 100 urte 1922-2022
DESCRIPTION:IPARRALDEKO PILOTA BATZORDEA\nCOMITÉ DE PELOTE BASQUE\nDans le cadre de son centenaire\, le Comité de Pelote du Pays Basque a organisé un événement culturel photographique.\nDe Biriatou jusqu’à Mauléon\, en passant par les Aldudes\, Osserain\, Ustaritz ou Bayonne\, près de 50 communes ont répondu à l’appel et ont choisi les personnalités qu’elles ont voulu honorer en photographies. Ces images retracent le passé glorieux\, le présent actif et l’avenir plein de promesses des joueurs de clubs ainsi que des communes. \n\nMardi\, mercredi et vendredi : 10:00 > 12:30 / 14:30 > 18:30\nJeudi : 14:30 > 18:30\nSamedi : 10:00 > 12:30 / 14:00 > 18:00\n\n\nEuskal Pilota Batzordeak ehun urte betetzen dituenaren karietara\, pilotaren argazkizko kultura ekitaldia antolatu du.\nBiriatutik Mauleraino\, Aldudeak\, Ozaraine\, Uztaritze edota Baiona tartean\, ia 50 herrik erantzun diote deiari eta argazkien bidez ohoratu nahi zituzten personalitateak hautatu dituzte. Irudi horiek klubeko eta herriko jokalarien iragan aintzatsua\, orainaldi aktiboa eta promesez beteriko etorkizuna irudikatzen dituzte. \n\nAstearte\, asteazken eta ostiraletan: 10:00 > 12:30 / 14:30 > 18:30\nOstegunetan: 14:30 >18:30\nLarunbatetan: 10:00 > 12:30 / 14:00 >18:00\n\n
URL:https://www.hendaye-culture.fr/fr/evenements/100-urte-1922-2022/
LOCATION:Médiathèque\, Rue Jaizkibel\, hendaye\, 64700\, France
CATEGORIES:Expositions,Médiathèque
ATTACH;FMTTYPE=image/jpeg:https://www.hendaye-culture.fr/wp-content/uploads/sites/2/2023/12/EXPO-100-ans-pelote.jpg
END:VEVENT
END:VCALENDAR