BEGIN:VCALENDAR
VERSION:2.0
PRODID:-//Hendaye Culture - ECPv4.9.10//NONSGML v1.0//EN
CALSCALE:GREGORIAN
METHOD:PUBLISH
X-WR-CALNAME:Hendaye Culture
X-ORIGINAL-URL:https://www.hendaye-culture.fr
X-WR-CALDESC:Évènements pour Hendaye Culture
BEGIN:VTIMEZONE
TZID:Europe/Paris
BEGIN:DAYLIGHT
TZOFFSETFROM:+0100
TZOFFSETTO:+0200
TZNAME:CEST
DTSTART:20260329T010000
END:DAYLIGHT
BEGIN:STANDARD
TZOFFSETFROM:+0200
TZOFFSETTO:+0100
TZNAME:CET
DTSTART:20261025T010000
END:STANDARD
END:VTIMEZONE
BEGIN:VEVENT
DTSTART;TZID=Europe/Paris:20260111T170000
DTEND;TZID=Europe/Paris:20260111T182900
DTSTAMP:20260421T121224
CREATED:20251224T112700Z
LAST-MODIFIED:20251224T112700Z
UID:59106-1768150800-1768156140@www.hendaye-culture.fr
SUMMARY:Animal Totem
DESCRIPTION:De l’aéroport de Beauvais à La Défense\, accompagné de sa valise à roulettes\, Darius traverse à pied campagnes et banlieues pour mener à bien\, et sans empreinte carbone\, une mystérieuse mission. \n
URL:https://www.hendaye-culture.fr/fr/evenements/animal-totem-2026-01-10-191500-2/
LOCATION:Cinéma Les Variétés\, 10 rue du Théâtre\, Hendaye\, 64700\, France
CATEGORIES:Cinéma
END:VEVENT
END:VCALENDAR