BEGIN:VCALENDAR
VERSION:2.0
PRODID:-//Hendaye Culture - ECPv4.9.10//NONSGML v1.0//EN
CALSCALE:GREGORIAN
METHOD:PUBLISH
X-WR-CALNAME:Hendaye Culture
X-ORIGINAL-URL:https://www.hendaye-culture.fr
X-WR-CALDESC:Évènements pour Hendaye Culture
BEGIN:VTIMEZONE
TZID:Europe/Paris
BEGIN:DAYLIGHT
TZOFFSETFROM:+0100
TZOFFSETTO:+0200
TZNAME:CEST
DTSTART:20250330T010000
END:DAYLIGHT
BEGIN:STANDARD
TZOFFSETFROM:+0200
TZOFFSETTO:+0100
TZNAME:CET
DTSTART:20251026T010000
END:STANDARD
END:VTIMEZONE
BEGIN:VEVENT
DTSTART;TZID=Europe/Paris:20250708T210000
DTEND;TZID=Europe/Paris:20250708T225800
DTSTAMP:20260421T111139
CREATED:20250614T140414Z
LAST-MODIFIED:20250614T140414Z
UID:55102-1752008400-1752015480@www.hendaye-culture.fr
SUMMARY:Another End (VO)
DESCRIPTION:Après avoir survécu à l’accident qui a coûté la vie à l’amour de sa vie\, Sal ne parvient pas à faire son deuil et ne vit plus que dans ses souvenirs. Sa soeur\, Ebe\, lui suggère de se tourner vers Another End\, une nouvelle technologie qui promet d’atténuer la douleur de la séparation en ramenant brièvement à la vie la conscience de ceux qui sont morts. Sal retrouve ainsi l’âme de Zoé au travers d’une autre femme. Ce qui était brisé semble alors se reconstituer. \n
URL:https://www.hendaye-culture.fr/fr/evenements/another-end-2025-07-02-190000-2/
LOCATION:Cinéma Les Variétés\, 10 rue du Théâtre\, Hendaye\, 64700\, France
CATEGORIES:Cinéma
END:VEVENT
END:VCALENDAR