BEGIN:VCALENDAR
VERSION:2.0
PRODID:-//Hendaye Culture - ECPv4.9.10//NONSGML v1.0//EN
CALSCALE:GREGORIAN
METHOD:PUBLISH
X-WR-CALNAME:Hendaye Culture
X-ORIGINAL-URL:https://www.hendaye-culture.fr
X-WR-CALDESC:Évènements pour Hendaye Culture
BEGIN:VTIMEZONE
TZID:Europe/Paris
BEGIN:DAYLIGHT
TZOFFSETFROM:+0100
TZOFFSETTO:+0200
TZNAME:CEST
DTSTART:20250330T010000
END:DAYLIGHT
BEGIN:STANDARD
TZOFFSETFROM:+0200
TZOFFSETTO:+0100
TZNAME:CET
DTSTART:20251026T010000
END:STANDARD
END:VTIMEZONE
BEGIN:VEVENT
DTSTART;TZID=Europe/Paris:20250621T170000
DTEND;TZID=Europe/Paris:20250621T170000
DTSTAMP:20260421T094330
CREATED:20250618T065612Z
LAST-MODIFIED:20250618T065612Z
UID:55223-1750525200-1750525200@www.hendaye-culture.fr
SUMMARY:Atelier participatif "Le grand Chœur des Muppets"
DESCRIPTION:Dans le cadre de la Fête de la Musique \nUn rendez-vous ludique et intergénérationnel\, où nous allons tous ensemble faire chanter et danser nos muppets\, sur une playslist réjouissante de tubes intemporels !\nPour participer\, venez avec la marionnette choriste que vous aurez créée en amont\, lors de nos ateliers. \n\nParte hartze bidezko atelierra: « Muppeten Abesbatza Handia »\nBelaunaldien arteko hitzordu ludikoa: guztiok elkarrekin gure muppetak kantarazi eta dantzaraziko ditugu\, denboraz kanpoko abesti arrakastatsuen playlist jostagarri batekin!\nHorretan parte hartzeko\, lehenik\, gure atelierretan\, egina duzun txotxongilo abeslaria ekar ezazu. \n
URL:https://www.hendaye-culture.fr/fr/evenements/atelier-participatif-le-grand-choeur-des-muppets/
LOCATION:Place Sokoburu\, Place Sokoburu\, Hendaye\, 64700\, France
CATEGORIES:Jeune Public
ATTACH;FMTTYPE=image/jpeg:https://www.hendaye-culture.fr/wp-content/uploads/sites/2/2025/06/atelier-muppetsfete-de-la-musique-scaled.jpg
END:VEVENT
END:VCALENDAR