BEGIN:VCALENDAR
VERSION:2.0
PRODID:-//Hendaye Culture - ECPv4.9.10//NONSGML v1.0//EN
CALSCALE:GREGORIAN
METHOD:PUBLISH
X-WR-CALNAME:Hendaye Culture
X-ORIGINAL-URL:https://www.hendaye-culture.fr
X-WR-CALDESC:Évènements pour Hendaye Culture
BEGIN:VTIMEZONE
TZID:Europe/Paris
BEGIN:DAYLIGHT
TZOFFSETFROM:+0100
TZOFFSETTO:+0200
TZNAME:CEST
DTSTART:20250330T010000
END:DAYLIGHT
BEGIN:STANDARD
TZOFFSETFROM:+0200
TZOFFSETTO:+0100
TZNAME:CET
DTSTART:20251026T010000
END:STANDARD
END:VTIMEZONE
BEGIN:VEVENT
DTSTART;TZID=Europe/Paris:20251021T150000
DTEND;TZID=Europe/Paris:20251021T150000
DTSTAMP:20260421T171845
CREATED:20250903T070910Z
LAST-MODIFIED:20250903T070910Z
UID:56513-1761058800-1761058800@www.hendaye-culture.fr
SUMMARY:Ciné-atelier "Fossiles faciles"
DESCRIPTION:\nTout public à partir de 7 ans\n\n\nÀ l’issue de la projection de : « Mary Anning » (durée du film 1h12)\nGratuit avec billet acheté de la séance. \nPlaces limitées\, sur inscription : shubert@hendaye.fr \n\nAnimé par une médiatrice du Pôle Culture\, un atelier créatif pour s’initier à l’univers des fossiles\, comprendre leur formation\, et réaliser son propre moulage\, tel un vrai paléontologue en herbe. \n\nZine atelierra: « Fossiles faciles »\n\n« Mary Anning » filmaren proiekzioaren ondotik (filmaren iraupena 1:12)\n(Urririk\, proiekziorako txartela erosiz gero.  \nLeku mugatuak\, izena eman behar da : shubert@hendaye.fr ) \n\nKultura Saileko bitartekari batek gidaturik\, sormen atelierra\, fosilen unibertsoan murgiltzeko\, haien sorrera ulertzeko eta norberak bere molde lana egiteko\, zinezko paleontologo gazte bat balitz bezala. \n  \n
URL:https://www.hendaye-culture.fr/fr/evenements/cine-atelier-fossiles-faciles/
LOCATION:Cinéma Les Variétés\, 10 rue du Théâtre\, Hendaye\, 64700\, France
CATEGORIES:Jeune Public
ATTACH;FMTTYPE=image/jpeg:https://www.hendaye-culture.fr/wp-content/uploads/sites/2/2025/09/ATELIER-Fossiles-faciles-COM-01-scaled.jpg
END:VEVENT
END:VCALENDAR