BEGIN:VCALENDAR
VERSION:2.0
PRODID:-//Hendaye Culture - ECPv4.9.10//NONSGML v1.0//EN
CALSCALE:GREGORIAN
METHOD:PUBLISH
X-WR-CALNAME:Hendaye Culture
X-ORIGINAL-URL:https://www.hendaye-culture.fr
X-WR-CALDESC:Évènements pour Hendaye Culture
BEGIN:VTIMEZONE
TZID:Europe/Paris
BEGIN:DAYLIGHT
TZOFFSETFROM:+0100
TZOFFSETTO:+0200
TZNAME:CEST
DTSTART:20250330T010000
END:DAYLIGHT
BEGIN:STANDARD
TZOFFSETFROM:+0200
TZOFFSETTO:+0100
TZNAME:CET
DTSTART:20251026T010000
END:STANDARD
END:VTIMEZONE
BEGIN:VEVENT
DTSTART;TZID=Europe/Paris:20251027T150000
DTEND;TZID=Europe/Paris:20251027T163000
DTSTAMP:20260422T012323
CREATED:20250903T071353Z
LAST-MODIFIED:20250903T071353Z
UID:56517-1761577200-1761582600@www.hendaye-culture.fr
SUMMARY:Ciné-atelier "Pop-up du poisson bavard"
DESCRIPTION:\nTout public à partir de 4 ans\n\nà l’issue de la projection de : « Timioche » (durée du film 0h41)\n(Gratuit avec billet acheté de la séance. \nPlaces limitées\, sur inscription : shubert@hendaye.fr \n\nAnimé par une médiatrice du Pôle Culture\, un atelier créatif pour fabriquer la carte pop-up d’un poisson aussi bavard que le petit héros du film\, et dont on pourra faire parler la bouche mobile à la manière d’une marionnette. \n\nZine-atelierra « Pop-up du poisson bavard »\n4 urtetik goiti\n\n« Timioche » filmaren proiekzioaren ondotik (filmaren iraupena 0:41) \n(Urririk\, proiekziorako txartela erosiz gero. Leku mugatuak\, izena eman behar da : shubert@hendaye.fr ) \n\nKultura Saileko bitartekari batek gidaturik\, sormen atelierra\, arrain baten pop-up karta egiteko; filmaren heroi txiki bezain kalakaria izango da\, eta bere aho mugikorrarekin\, txotxongilo baten gisara\, mintzarazten ahalko dugu. \n  \n
URL:https://www.hendaye-culture.fr/fr/evenements/cine-atelier-pop-up-du-poisson-bavard/
LOCATION:Cinéma Les Variétés\, 10 rue du Théâtre\, Hendaye\, 64700\, France
CATEGORIES:Jeune Public
ATTACH;FMTTYPE=image/jpeg:https://www.hendaye-culture.fr/wp-content/uploads/sites/2/2025/09/ATELIER-Pop-up-du-poisson-bavard-COM-01-scaled.jpg
END:VEVENT
END:VCALENDAR