BEGIN:VCALENDAR
VERSION:2.0
PRODID:-//Hendaye Culture - ECPv4.9.10//NONSGML v1.0//EN
CALSCALE:GREGORIAN
METHOD:PUBLISH
X-WR-CALNAME:Hendaye Culture
X-ORIGINAL-URL:https://www.hendaye-culture.fr
X-WR-CALDESC:Évènements pour Hendaye Culture
BEGIN:VTIMEZONE
TZID:Europe/Paris
BEGIN:DAYLIGHT
TZOFFSETFROM:+0100
TZOFFSETTO:+0200
TZNAME:CEST
DTSTART:20250330T010000
END:DAYLIGHT
BEGIN:STANDARD
TZOFFSETFROM:+0200
TZOFFSETTO:+0100
TZNAME:CET
DTSTART:20251026T010000
END:STANDARD
END:VTIMEZONE
BEGIN:VEVENT
DTSTART;TZID=Europe/Paris:20251020T173000
DTEND;TZID=Europe/Paris:20251020T194500
DTSTAMP:20260421T154730
CREATED:20250930T194754Z
LAST-MODIFIED:20250930T194754Z
UID:57194-1760981400-1760989500@www.hendaye-culture.fr
SUMMARY:Conjuring : l'heure du jugement
DESCRIPTION:Alors qu’ils espéraient une nouvelle vie\, Ed et Lorraine Warren se voient impliqués dans une dernière enquête…qu’ils n’auraient jamais dû accepter. Dans la maison de la famille Smurl\, un mal ancien les attend. Un ennemi qu’ils croyaient à jamais enfoui… Découvrez comment les Warren ont affronté le cas le plus maléfique de leur carrière\, inspiré de faits réels qui ont terrorisé l’Amérique. \n
URL:https://www.hendaye-culture.fr/fr/evenements/conjuring-lheure-du-jugement-2025-10-18-210000-2/
LOCATION:Cinéma Les Variétés\, 10 rue du Théâtre\, Hendaye\, 64700\, France
CATEGORIES:Cinéma
END:VEVENT
END:VCALENDAR