BEGIN:VCALENDAR
VERSION:2.0
PRODID:-//Hendaye Culture - ECPv4.9.10//NONSGML v1.0//EN
CALSCALE:GREGORIAN
METHOD:PUBLISH
X-WR-CALNAME:Hendaye Culture
X-ORIGINAL-URL:https://www.hendaye-culture.fr
X-WR-CALDESC:Évènements pour Hendaye Culture
BEGIN:VTIMEZONE
TZID:Europe/Paris
BEGIN:DAYLIGHT
TZOFFSETFROM:+0100
TZOFFSETTO:+0200
TZNAME:CEST
DTSTART:20250330T010000
END:DAYLIGHT
BEGIN:STANDARD
TZOFFSETFROM:+0200
TZOFFSETTO:+0100
TZNAME:CET
DTSTART:20251026T010000
END:STANDARD
END:VTIMEZONE
BEGIN:VEVENT
DTSTART;TZID=Europe/Paris:20251019T160000
DTEND;TZID=Europe/Paris:20251019T183600
DTSTAMP:20260421T184427
CREATED:20250930T194730Z
LAST-MODIFIED:20250930T194730Z
UID:57172-1760889600-1760898960@www.hendaye-culture.fr
SUMMARY:Demon Slayer: Kimetsu no Yaiba La Forteresse Infinie Film 1
DESCRIPTION:Tanjirô Kamado a rejoint une organisation dédiée à la chasse aux démons\, les pourfendeurs de démons\, après que sa jeune soeur Nezuko ait été transformée en démon. Devenant de plus en plus fort et proche des autres membres de l’armée\, Tanjirô affronte de nombreux démons en compagnie de ses camarades\, Zen’itsu Agatsuma et Inosuke Hashibira. Ses aventures l’ont amené à se battre aux côtés des combattants les plus hauts placés de l’armée des pourfendeurs de démons\, les piliers\, tels que le pilier de la flamme\, Kyôjurô Rengoku\, dans le train de l’infini\, le pilier du son\, Tengen Uzui\, dans le quartier des plaisirs\, ainsi que le pilier de la brume\, Muichirô Tokitô\, et le pilier de l’amour\, Mitsuri Kanroji\, dans le village des forgerons. Alors que l’armée des pourfendeurs de démons et les piliers s’exerçaient lors d’une session d’entraînement en prévision du futur affrontement contre les démons\, Muzan Kibutsuji fait son apparition au manoir Ubuyashiki. Le responsable de l’armée étant en danger\, Tanjirô et les piliers se ruent vers le quartier général\, mais tombent dans le piège tendu par Muzan Kibutsuji et se retrouvent coincés dans les profondeurs d’un espace mystérieux. Tanjirô et le reste de l’armée des pourfendeurs de démons sont téléportés dans le bastion des démons : la Forteresse infinie. C’est là que s’embrasera l’ultime combat entre l’armée des pourfendeurs de démons et les forces démoniaques. \n
URL:https://www.hendaye-culture.fr/fr/evenements/demon-slayer-kimetsu-no-yaiba-la-forteresse-infinie-film-1-2025-10-18-180000-2/
LOCATION:Cinéma Les Variétés\, 10 rue du Théâtre\, Hendaye\, 64700\, France
CATEGORIES:Cinéma
END:VEVENT
END:VCALENDAR