BEGIN:VCALENDAR
VERSION:2.0
PRODID:-//Hendaye Culture - ECPv4.9.10//NONSGML v1.0//EN
CALSCALE:GREGORIAN
METHOD:PUBLISH
X-WR-CALNAME:Hendaye Culture
X-ORIGINAL-URL:https://www.hendaye-culture.fr
X-WR-CALDESC:Évènements pour Hendaye Culture
BEGIN:VTIMEZONE
TZID:Europe/Paris
BEGIN:DAYLIGHT
TZOFFSETFROM:+0100
TZOFFSETTO:+0200
TZNAME:CEST
DTSTART:20250330T010000
END:DAYLIGHT
BEGIN:STANDARD
TZOFFSETFROM:+0200
TZOFFSETTO:+0100
TZNAME:CET
DTSTART:20251026T010000
END:STANDARD
END:VTIMEZONE
BEGIN:VEVENT
DTSTART;TZID=Europe/Paris:20250621T150000
DTEND;TZID=Europe/Paris:20250621T163300
DTSTAMP:20260421T104746
CREATED:20250614T140129Z
LAST-MODIFIED:20250614T140129Z
UID:54954-1750518000-1750523580@www.hendaye-culture.fr
SUMMARY:Diplodocus
DESCRIPTION:Le petit dinosaure Diplodocus rêve de vivre une grande aventure. Malheureusement\, ses parents surprotecteurs ne le laissent pas explorer le monde magnifique mais dangereux au-delà du mur qu’ils ont construit pour protéger leur foyer dans la jungle. Diplo ne sait pas encore que son univers fait en réalité partie d’une bande dessinée créée par Ted\, un artiste rêvant de succès. \n
URL:https://www.hendaye-culture.fr/fr/evenements/diplodocus-2025-06-18-150000-2/
LOCATION:Cinéma Les Variétés\, 10 rue du Théâtre\, Hendaye\, 64700\, France
CATEGORIES:Cinéma
END:VEVENT
END:VCALENDAR