BEGIN:VCALENDAR
VERSION:2.0
PRODID:-//Hendaye Culture - ECPv4.9.10//NONSGML v1.0//EN
CALSCALE:GREGORIAN
METHOD:PUBLISH
X-WR-CALNAME:Hendaye Culture
X-ORIGINAL-URL:https://www.hendaye-culture.fr
X-WR-CALDESC:Évènements pour Hendaye Culture
BEGIN:VTIMEZONE
TZID:Europe/Paris
BEGIN:DAYLIGHT
TZOFFSETFROM:+0100
TZOFFSETTO:+0200
TZNAME:CEST
DTSTART:20250330T010000
END:DAYLIGHT
BEGIN:STANDARD
TZOFFSETFROM:+0200
TZOFFSETTO:+0100
TZNAME:CET
DTSTART:20251026T010000
END:STANDARD
END:VTIMEZONE
BEGIN:VEVENT
DTSTART;TZID=Europe/Paris:20250707T210000
DTEND;TZID=Europe/Paris:20250707T224200
DTSTAMP:20260421T080845
CREATED:20250614T140331Z
LAST-MODIFIED:20250614T140331Z
UID:55061-1751922000-1751928120@www.hendaye-culture.fr
SUMMARY:Enzo
DESCRIPTION:Ce film est présenté à la Quinzaine des Cinéastes au Festival de Cannes 2025Enzo\, 16 ans\, est apprenti maçon à La Ciotat. Pressé par son père qui le voyait faire des études supérieures\, le jeune homme cherche à échapper au cadre confortable mais étouffant de la villa familiale. C’est sur les chantiers\, au contact de Vlad\, un collègue ukrainien\, qu’Enzo va entrevoir un nouvel horizon. \n
URL:https://www.hendaye-culture.fr/fr/evenements/enzo-2025-07-06-190000/
LOCATION:Cinéma Les Variétés\, 10 rue du Théâtre\, Hendaye\, 64700\, France
CATEGORIES:Cinéma
END:VEVENT
END:VCALENDAR