BEGIN:VCALENDAR
VERSION:2.0
PRODID:-//Hendaye Culture - ECPv4.9.10//NONSGML v1.0//EN
CALSCALE:GREGORIAN
METHOD:PUBLISH
X-WR-CALNAME:Hendaye Culture
X-ORIGINAL-URL:https://www.hendaye-culture.fr
X-WR-CALDESC:Évènements pour Hendaye Culture
BEGIN:VTIMEZONE
TZID:Europe/Paris
BEGIN:DAYLIGHT
TZOFFSETFROM:+0100
TZOFFSETTO:+0200
TZNAME:CEST
DTSTART:20250330T010000
END:DAYLIGHT
BEGIN:STANDARD
TZOFFSETFROM:+0200
TZOFFSETTO:+0100
TZNAME:CET
DTSTART:20251026T010000
END:STANDARD
END:VTIMEZONE
BEGIN:VEVENT
DTSTART;VALUE=DATE:20251008
DTEND;VALUE=DATE:20251026
DTSTAMP:20260422T010655
CREATED:20250625T093407Z
LAST-MODIFIED:20250625T093407Z
UID:55303-1759881600-1761436799@www.hendaye-culture.fr
SUMMARY:EXPO : Dessins & Peintures
DESCRIPTION:WIN VERHELST\nCette exposition présentera des dessins et des peintures dans diverses techniques : du dessin à la peinture\, en passant par le pastel ou des techniques mixtes des supports variés. Plusieurs sujet sont abordés : paysages\, portraits\, animaux\, natures mortes et dessins imaginaires. \n\nErakusketak hainbat teknikaz egin marrazki eta margolanak erakutsiko ditu: marrazkiak eta margolanak\, pastelak eta teknika mistoez hainbat euskarritan eginikoak. Hainbat gai ageri dira: paisaiak\, potretak\, abereak\, natura hilak eta alegiazko marrazkiak.  \n\nVernissage / Estreinaldia: 08.10.2025 – 19:00 – A l’espace culturel Mendi Zolan\n\n  \n
URL:https://www.hendaye-culture.fr/fr/evenements/expo-dessins-peintures/
LOCATION:Mendi Zolan\, 119 Pl. du Port\, Hendaye\, 64700\, France
CATEGORIES:Expositions
ATTACH;FMTTYPE=image/jpeg:https://www.hendaye-culture.fr/wp-content/uploads/sites/2/2025/06/expo-Dessins-et-pientures-Win-Verhelst.jpg
END:VEVENT
END:VCALENDAR