BEGIN:VCALENDAR
VERSION:2.0
PRODID:-//Hendaye Culture - ECPv4.9.10//NONSGML v1.0//EN
CALSCALE:GREGORIAN
METHOD:PUBLISH
X-WR-CALNAME:Hendaye Culture
X-ORIGINAL-URL:https://www.hendaye-culture.fr
X-WR-CALDESC:Évènements pour Hendaye Culture
BEGIN:VTIMEZONE
TZID:Europe/Paris
BEGIN:DAYLIGHT
TZOFFSETFROM:+0100
TZOFFSETTO:+0200
TZNAME:CEST
DTSTART:20260329T010000
END:DAYLIGHT
BEGIN:STANDARD
TZOFFSETFROM:+0200
TZOFFSETTO:+0100
TZNAME:CET
DTSTART:20261025T010000
END:STANDARD
END:VTIMEZONE
BEGIN:VEVENT
DTSTART;VALUE=DATE:20260108
DTEND;VALUE=DATE:20260201
DTSTAMP:20260421T134417
CREATED:20251217T093452Z
LAST-MODIFIED:20251217T093452Z
UID:58430-1767830400-1769903999@www.hendaye-culture.fr
SUMMARY:EXPO : Garabateando Bidasoa
DESCRIPTION:Garabateando Bidasoa est un groupe de dessinateurs et dessinatrices qui se réunit pour dessiner en espace public. Le groupe est ouvert\, libre et volontaire. L’initiative s’adresse à toute personne sensible au dessin et/ou à la peinture en extérieur. Il s’agit d’une initiative démocratique dans laquelle il n’est pas nécessaire d’avoir un grand niveau pour participer. Nos dessins représentent une partie du patrimoine historique et culturel de notre environnement. En dessinant dans l’espace public\, nous souhaitons normaliser et encourager ce type d’art. \n\nGarabateando Bidasoa eremu publikoan marrazteko elkartzen den marrazkilari talde bat da. Taldea nahi duenari irekia da libreki. Ekimena kanpoko marrazketa edo/eta margolaritzari isuria den orori zuzendua zaio. Ekimen demokratikoa da\, maila ona ukaitea eskatzen ez duena. Gure marrazkiek gure ingurumeneko historia- eta kultura-ondarearen zati bat irudikatzen dute. Eremu publikoan marraztuz\, mota horretako artea normalizatu eta sustatu nahi dugu.  \n\nVernissage / Estreinaldia: 14.01.2026 – 19:00 – A l’espace culturel Mendi Zolan\n\n  \n
URL:https://www.hendaye-culture.fr/fr/evenements/expo-garabateando-bidasoa/
LOCATION:Mendi Zolan\, 119 Pl. du Port\, Hendaye\, 64700\, France
CATEGORIES:Expositions
ATTACH;FMTTYPE=image/jpeg:https://www.hendaye-culture.fr/wp-content/uploads/sites/2/2025/12/Expo-Garabateando-Bidasoa.jpg
END:VEVENT
END:VCALENDAR