BEGIN:VCALENDAR
VERSION:2.0
PRODID:-//Hendaye Culture - ECPv4.9.10//NONSGML v1.0//EN
CALSCALE:GREGORIAN
METHOD:PUBLISH
X-WR-CALNAME:Hendaye Culture
X-ORIGINAL-URL:https://www.hendaye-culture.fr
X-WR-CALDESC:Évènements pour Hendaye Culture
BEGIN:VTIMEZONE
TZID:Europe/Paris
BEGIN:DAYLIGHT
TZOFFSETFROM:+0100
TZOFFSETTO:+0200
TZNAME:CEST
DTSTART:20250330T010000
END:DAYLIGHT
BEGIN:STANDARD
TZOFFSETFROM:+0200
TZOFFSETTO:+0100
TZNAME:CET
DTSTART:20251026T010000
END:STANDARD
END:VTIMEZONE
BEGIN:VEVENT
DTSTART;VALUE=DATE:20251021
DTEND;VALUE=DATE:20251109
DTSTAMP:20260421T154348
CREATED:20251020T092949Z
LAST-MODIFIED:20251020T092949Z
UID:57420-1761004800-1762646399@www.hendaye-culture.fr
SUMMARY:Expo peinture : Hendaye ville de lumière blanche
DESCRIPTION:Par Iria Fernández \n
URL:https://www.hendaye-culture.fr/fr/evenements/expo-peinture-hendaye-ville-de-lumiere-blanche/
LOCATION:Médiathèque\, Rue Jaizkibel\, hendaye\, 64700\, France
CATEGORIES:Expositions,Médiathèque
ATTACH;FMTTYPE=image/jpeg:https://www.hendaye-culture.fr/wp-content/uploads/sites/2/2025/10/web-exposition-peinture-10-2025.jpg
END:VEVENT
END:VCALENDAR