BEGIN:VCALENDAR
VERSION:2.0
PRODID:-//Hendaye Culture - ECPv4.9.10//NONSGML v1.0//EN
CALSCALE:GREGORIAN
METHOD:PUBLISH
X-WR-CALNAME:Hendaye Culture
X-ORIGINAL-URL:https://www.hendaye-culture.fr
X-WR-CALDESC:Évènements pour Hendaye Culture
BEGIN:VTIMEZONE
TZID:Europe/Paris
BEGIN:DAYLIGHT
TZOFFSETFROM:+0100
TZOFFSETTO:+0200
TZNAME:CEST
DTSTART:20220327T010000
END:DAYLIGHT
BEGIN:STANDARD
TZOFFSETFROM:+0200
TZOFFSETTO:+0100
TZNAME:CET
DTSTART:20221030T010000
END:STANDARD
END:VTIMEZONE
BEGIN:VEVENT
DTSTART;VALUE=DATE:20220119
DTEND;VALUE=DATE:20220126
DTSTAMP:20260420T030102
CREATED:20220110T145706Z
LAST-MODIFIED:20220110T145706Z
UID:25381-1642550400-1643155199@www.hendaye-culture.fr
SUMMARY:Festival Cinéma Télérama
DESCRIPTION:Il s’agit de la sélection des « 7 meilleurs films de l’année »\, dont un à destination des moins de 26 ans\, choisis par la rédaction du magazine Télérama\, à un tarif de 3\,50 euros sur présentation du pass dédié à la manifestation.\nCette manifestation\, unique par sa dimension nationale\, est devenue\, au fil des ans\, un événement important\, permettant une nouvelle exposition d’envergure pour des films d’auteur de l’année écoulée. \n\nTélérama zinema festibala\nFestibal honetan\,”urteko 7 filma onenak” hautatuak dira. Hauen artean\, 26 urtez pekoentzako bat\, Télérama aldizkariaren erredakzioak hautaturik\, 3\,50 euroko tarifa batean\, ekitaldirako pasabaimena aurkeztuz gero.\nNazio mailakoa izanez bakan den ekitaldi hori\, urteekin\, ekitaldi garrantzitsua bilakatu da eta erakusketa handi berri baterako aukera ematen die iragan urteko egile-filmei. \n
URL:https://www.hendaye-culture.fr/fr/evenements/festival-cinema-telerama-3/
LOCATION:Cinéma Les Variétés\, 10 rue du Théâtre\, Hendaye\, 64700\, France
CATEGORIES:Cinéma,Festival
ATTACH;FMTTYPE=image/jpeg:https://www.hendaye-culture.fr/wp-content/uploads/sites/2/2022/01/image-91.jpg
END:VEVENT
END:VCALENDAR