BEGIN:VCALENDAR
VERSION:2.0
PRODID:-//Hendaye Culture - ECPv4.9.10//NONSGML v1.0//EN
CALSCALE:GREGORIAN
METHOD:PUBLISH
X-WR-CALNAME:Hendaye Culture
X-ORIGINAL-URL:https://www.hendaye-culture.fr
X-WR-CALDESC:Évènements pour Hendaye Culture
BEGIN:VTIMEZONE
TZID:Europe/Paris
BEGIN:DAYLIGHT
TZOFFSETFROM:+0100
TZOFFSETTO:+0200
TZNAME:CEST
DTSTART:20260329T010000
END:DAYLIGHT
BEGIN:STANDARD
TZOFFSETFROM:+0200
TZOFFSETTO:+0100
TZNAME:CET
DTSTART:20261025T010000
END:STANDARD
END:VTIMEZONE
BEGIN:VEVENT
DTSTART;VALUE=DATE:20260116
DTEND;VALUE=DATE:20260117
DTSTAMP:20260419T152605
CREATED:20260107T101802Z
LAST-MODIFIED:20260107T102339Z
UID:59214-1768521600-1768607999@www.hendaye-culture.fr
SUMMARY:Fêtes de la Bixintxo
DESCRIPTION:\n17:45 : Départ du défilé « Le Retour de Pellot » du Port de Caneta arrivée sur la Place de la République\n18:00 : Spectacle de danse par la Cie Surprise Effect\n18:15 : Ouverture des fêtes avec Pellot et Neskatxa de l’école de la ville\, Place de la République\n19 :00 : Concours d’omelettes aux patates pour les enfants\, Esplanade des Halles de Gaztelu.\n19 :00 : Remise des prix Champions Hendayais\, Halles de Gaztelu (salle de spectacle) sur invitations.\n\nRETROUVEZ LE PROGRAMME COMPLET DES FËTES ICI \n\n\n17:45 > “Pellot-en itzulera” desfilearen abiatzea Kanetako portutik\, iritsiera Errepublika plazan\n18:00 > Surprise Effect dantza konpainia\, Errepublika plazan\n18:15 > Besten irekitzea\, Hiri-barneko eskolako Pellot eta Neskatxarekin\, Errepublika plazan\n19:00 > Patata tortilla lehiaketa haurrentzat\, Gaztelu Aretoko zabaldegian\n19:00 > Sarien banaketa Hendaiako Txapeldunei\, Gaztelu Aretoan (ikuskizun gelan)\, gonbidapena dutenentzat\n\nBESTETAKO EGITARAU OSOA HEMEN \n
URL:https://www.hendaye-culture.fr/fr/evenements/fetes-de-la-bixintxo-21/
CATEGORIES:Animations locales
ATTACH;FMTTYPE=image/jpeg:https://www.hendaye-culture.fr/wp-content/uploads/sites/2/2026/01/1.jpg
END:VEVENT
END:VCALENDAR