BEGIN:VCALENDAR
VERSION:2.0
PRODID:-//Hendaye Culture - ECPv4.9.10//NONSGML v1.0//EN
CALSCALE:GREGORIAN
METHOD:PUBLISH
X-WR-CALNAME:Hendaye Culture
X-ORIGINAL-URL:https://www.hendaye-culture.fr
X-WR-CALDESC:Évènements pour Hendaye Culture
BEGIN:VTIMEZONE
TZID:Europe/Paris
BEGIN:DAYLIGHT
TZOFFSETFROM:+0100
TZOFFSETTO:+0200
TZNAME:CEST
DTSTART:20250330T010000
END:DAYLIGHT
BEGIN:STANDARD
TZOFFSETFROM:+0200
TZOFFSETTO:+0100
TZNAME:CET
DTSTART:20251026T010000
END:STANDARD
END:VTIMEZONE
BEGIN:VEVENT
DTSTART;TZID=Europe/Paris:20250701T163000
DTEND;TZID=Europe/Paris:20250701T182000
DTSTAMP:20260419T135103
CREATED:20250614T140237Z
LAST-MODIFIED:20250614T140237Z
UID:55012-1751387400-1751394000@www.hendaye-culture.fr
SUMMARY:Freud\, la dernière confession (VO)
DESCRIPTION:À la veille de la Seconde Guerre mondiale\, Sigmund Freud s’est réfugié à Londres\, en compagnie de sa fille Anna. Sous l’effet de l’âge et de la maladie\, la star mondiale de la psychanalyse s’est changée en un vieillard aigri et capricieux. Mais la curiosité du professeur est piquée au vif lorsqu’un certain C.S Lewis\, romancier et chrétien revendiqué\, le mentionne dans l’une de ses publications. Leur rencontre autour de la question de Dieu va tourner au duel… \n
URL:https://www.hendaye-culture.fr/fr/evenements/freud-la-dernire-confession-2025-06-25-191500-2/
LOCATION:Cinéma Les Variétés\, 10 rue du Théâtre\, Hendaye\, 64700\, France
CATEGORIES:Cinéma
END:VEVENT
END:VCALENDAR