BEGIN:VCALENDAR
VERSION:2.0
PRODID:-//Hendaye Culture - ECPv4.9.10//NONSGML v1.0//EN
CALSCALE:GREGORIAN
METHOD:PUBLISH
X-WR-CALNAME:Hendaye Culture
X-ORIGINAL-URL:https://www.hendaye-culture.fr
X-WR-CALDESC:Évènements pour Hendaye Culture
BEGIN:VTIMEZONE
TZID:Europe/Paris
BEGIN:DAYLIGHT
TZOFFSETFROM:+0100
TZOFFSETTO:+0200
TZNAME:CEST
DTSTART:20260329T010000
END:DAYLIGHT
BEGIN:STANDARD
TZOFFSETFROM:+0200
TZOFFSETTO:+0100
TZNAME:CET
DTSTART:20261025T010000
END:STANDARD
END:VTIMEZONE
BEGIN:VEVENT
DTSTART;TZID=Europe/Paris:20260228T150000
DTEND;TZID=Europe/Paris:20260228T164000
DTSTAMP:20260421T093851
CREATED:20260218T150651Z
LAST-MODIFIED:20260218T150651Z
UID:59880-1772290800-1772296800@www.hendaye-culture.fr
SUMMARY:Goat - rêver plus haut
DESCRIPTION:Will est un petit bouc avec de grands rêves. Lorsqu’il décroche une chance inespérée de rejoindre la ligue professionnelle de "roarball" – un sport mixte\, ultra-intense\, réservé aux bêtes les plus rapides et féroces du règne animal – il entend bien saisir sa chance. Problème : ses nouveaux coéquipiers ne sont pas franchement ravis d’avoir un "petit" dans l’équipe. Mais Will est prêt à tout pour bousculer les règles du jeu et prouver\, une bonne fois pour toutes\, que les petits aussi peuvent jouer dans la cour des grands. \n
URL:https://www.hendaye-culture.fr/fr/evenements/goat-rver-plus-haut-2026-02-25-150000-2/
LOCATION:Cinéma Les Variétés\, 10 rue du Théâtre\, Hendaye\, 64700\, France
CATEGORIES:Cinéma
END:VEVENT
END:VCALENDAR