BEGIN:VCALENDAR
VERSION:2.0
PRODID:-//Hendaye Culture - ECPv4.9.10//NONSGML v1.0//EN
CALSCALE:GREGORIAN
METHOD:PUBLISH
X-WR-CALNAME:Hendaye Culture
X-ORIGINAL-URL:https://www.hendaye-culture.fr
X-WR-CALDESC:Évènements pour Hendaye Culture
BEGIN:VTIMEZONE
TZID:Europe/Paris
BEGIN:DAYLIGHT
TZOFFSETFROM:+0100
TZOFFSETTO:+0200
TZNAME:CEST
DTSTART:20260329T010000
END:DAYLIGHT
BEGIN:STANDARD
TZOFFSETFROM:+0200
TZOFFSETTO:+0100
TZNAME:CET
DTSTART:20261025T010000
END:STANDARD
END:VTIMEZONE
BEGIN:VEVENT
DTSTART;TZID=Europe/Paris:20260104T150000
DTEND;TZID=Europe/Paris:20260104T161900
DTSTAMP:20260421T093907
CREATED:20251224T112617Z
LAST-MODIFIED:20251224T112618Z
UID:59062-1767538800-1767543540@www.hendaye-culture.fr
SUMMARY:Heidi et le lynx des montagnes
DESCRIPTION:Heidi vit avec son grand-père dans un chalet à la montagne. Mais tout bascule lorsqu’elle trouve un bébé lynx blessé et décide de le soigner. Le jeune animal a désespérément besoin de retrouver sa famille vers les sommets ! À l’insu de son grand-père\, Heidi et Peter décident de sauver leur nouveau compagnon. Les choses se compliquent lorsqu’un homme d’affaires cupide\, Schnaittinger\, veut construire une grande scierie en montagne et pose des pièges aux lynx. Il faut maintenant protéger non seulement le lynx et sa famille\, mais aussi le village et la nature qu’ils aiment tant! \n
URL:https://www.hendaye-culture.fr/fr/evenements/heidi-et-le-lynx-des-montagnes-2025-12-31-150000-2/
LOCATION:Cinéma Les Variétés\, 10 rue du Théâtre\, Hendaye\, 64700\, France
CATEGORIES:Cinéma
END:VEVENT
END:VCALENDAR