BEGIN:VCALENDAR
VERSION:2.0
PRODID:-//Hendaye Culture - ECPv4.9.10//NONSGML v1.0//EN
CALSCALE:GREGORIAN
METHOD:PUBLISH
X-WR-CALNAME:Hendaye Culture
X-ORIGINAL-URL:https://www.hendaye-culture.fr
X-WR-CALDESC:Évènements pour Hendaye Culture
BEGIN:VTIMEZONE
TZID:Europe/Paris
BEGIN:DAYLIGHT
TZOFFSETFROM:+0100
TZOFFSETTO:+0200
TZNAME:CEST
DTSTART:20250330T010000
END:DAYLIGHT
BEGIN:STANDARD
TZOFFSETFROM:+0200
TZOFFSETTO:+0100
TZNAME:CET
DTSTART:20251026T010000
END:STANDARD
END:VTIMEZONE
BEGIN:VEVENT
DTSTART;TZID=Europe/Paris:20251026T173000
DTEND;TZID=Europe/Paris:20251026T184000
DTSTAMP:20260421T233750
CREATED:20250625T081616Z
LAST-MODIFIED:20250625T081710Z
UID:55284-1761499800-1761504000@www.hendaye-culture.fr
SUMMARY:Hors norme
DESCRIPTION:TEASER : https://www.youtube.com/watch?v=gduipjVxwG8 \nCie Betty blues\nÀ partir de 8 ans / 8 urtez gorakoentzat\nEn français / Frantsesez\nAujourd’hui\, c’est l’anniversaire de Pablo. Il a 8 ans ! Sa maman\, Juliette\, et sa marraine Leïla\, ont décidé de lui organiser une fête. Très vite\, le cadeau apporté par Leïla inquiète Juliette. Et si ce n’était pas un cadeau de garçon ? Le mur de certitudes va se fissurer avec l’apparition de personnages insolites… et la préparation de la fête se transforme en épopée historique\, musicale et humoristique. Entre réel et imaginaire\, les deux amies revisitent notre histoire collective pour interroger la notion de normalité. \nSpectacle accueilli en résidence de création en juin 2023. \n\nBILLETTERIE  \n\n\nEgun Pabloren urtebetetze eguna da. Zortzi urte ditu! Juliette bere amak eta Leïla amabitxiak besta bat antolatuko diotela erabaki dute. Berehala\, Leïla-k ekarri duen oparia kezkagarri zaio Juliette-ri. Eta hori mutiko batentzako gisako oparia ez bada? Ziur zaion eremua inarrosiko zaio pertsonaia bitxiak agertzearekin batera… eta bestaren prestaketa epopeia historiko\, musikazko eta umoretsua bihurtuko da. Errealitatearen eta irudimenezkoaren artean\, bi adiskideak gure historia kolektiboa arramoldatu eta normaltasunaren nozioaz galdekatzen arituko zaizkigu. \nIkusgarri honek sorkuntza egonaldia egin zuen 2023ko ekainean. \n\nTXARTELDEGIA \n\n\nEn co-réalisation / Elkarlanean : \n \n
URL:https://www.hendaye-culture.fr/fr/evenements/hors-norme/
LOCATION:Mendi Zolan\, 119 Pl. du Port\, Hendaye\, 64700\, France
CATEGORIES:Concerts,Jeune Public,Théâtre
ATTACH;FMTTYPE=image/jpeg:https://www.hendaye-culture.fr/wp-content/uploads/sites/2/2025/06/Hors-norme-ci-Betty-blues.jpg
ORGANIZER;CN="Hendaye%20culture":MAILTO:mendizolan@hendaye.com
END:VEVENT
END:VCALENDAR