BEGIN:VCALENDAR
VERSION:2.0
PRODID:-//Hendaye Culture - ECPv4.9.10//NONSGML v1.0//EN
CALSCALE:GREGORIAN
METHOD:PUBLISH
X-WR-CALNAME:Hendaye Culture
X-ORIGINAL-URL:https://www.hendaye-culture.fr
X-WR-CALDESC:Évènements pour Hendaye Culture
BEGIN:VTIMEZONE
TZID:Europe/Paris
BEGIN:DAYLIGHT
TZOFFSETFROM:+0100
TZOFFSETTO:+0200
TZNAME:CEST
DTSTART:20260329T010000
END:DAYLIGHT
BEGIN:STANDARD
TZOFFSETFROM:+0200
TZOFFSETTO:+0100
TZNAME:CET
DTSTART:20261025T010000
END:STANDARD
END:VTIMEZONE
BEGIN:VEVENT
DTSTART;TZID=Europe/Paris:20260117T203000
DTEND;TZID=Europe/Paris:20260117T223000
DTSTAMP:20260419T213947
CREATED:20251230T205448Z
LAST-MODIFIED:20251230T205448Z
UID:59182-1768681800-1768689000@www.hendaye-culture.fr
SUMMARY:Inarumen (VO)
DESCRIPTION:\nToutes les séances \nSamedi 17 janvier à 20h30 en VO\nCiné-rencontre avec la réalisatrice \n \n\nDurée 1h30\nDe Agnès Biscaïchipy\nGenre Documentaire \nSYNOPSIS ET DÉTAILS\nAu coeur du Wallmapu\, les voix des Mapuche s’élèvent pour préserver et transmettre la mémoire de leurs ancêtres. Dans chaque geste\, chaque parole\, chaque enseignement transmis aux plus jeunes\, se dessine la force tranquille d’une culture vivante\, profondément enracinée et en perpétuel mouvement. Inarrumen est un voyage au coeur d’un héritage millénaire\, un hommage à la persévérance d’un peuple qui\, malgré l’effacement et la répression\, continue à faire vivre son monde avec fierté et détermination. \n
URL:https://www.hendaye-culture.fr/fr/evenements/inarumen-vo/
LOCATION:Cinéma Les Variétés\, 10 rue du Théâtre\, Hendaye\, 64700\, France
CATEGORIES:Cinéma
ATTACH;FMTTYPE=image/jpeg:https://www.hendaye-culture.fr/wp-content/uploads/sites/2/2025/12/affiche_inarumen.jpg
END:VEVENT
END:VCALENDAR