BEGIN:VCALENDAR
VERSION:2.0
PRODID:-//Hendaye Culture - ECPv4.9.10//NONSGML v1.0//EN
CALSCALE:GREGORIAN
METHOD:PUBLISH
X-WR-CALNAME:Hendaye Culture
X-ORIGINAL-URL:https://www.hendaye-culture.fr
X-WR-CALDESC:Évènements pour Hendaye Culture
BEGIN:VTIMEZONE
TZID:Europe/Paris
BEGIN:DAYLIGHT
TZOFFSETFROM:+0100
TZOFFSETTO:+0200
TZNAME:CEST
DTSTART:20250330T010000
END:DAYLIGHT
BEGIN:STANDARD
TZOFFSETFROM:+0200
TZOFFSETTO:+0100
TZNAME:CET
DTSTART:20251026T010000
END:STANDARD
END:VTIMEZONE
BEGIN:VEVENT
DTSTART;TZID=Europe/Paris:20251019T150000
DTEND;TZID=Europe/Paris:20251019T155200
DTSTAMP:20260421T201831
CREATED:20250930T194654Z
LAST-MODIFIED:20250930T194654Z
UID:57140-1760886000-1760889120@www.hendaye-culture.fr
SUMMARY:Jack et Nancy - les plus belles histoires de Quentin Blake
DESCRIPTION:C’est quand le vent se lève que naissent les meilleures histoires ! C’est ainsi que Jack et Nancy s’envolent\, accrochés à un parapluie magique\, et qu’Angèle rencontre un minuscule oisillon tombé du ciel lors d’une tempête. Deux contes pleins de charme et d’humour adaptés des albums de Quentin Blake\, où l’on parle d’amitié\, de découvertes et de départs… mais aussi du bonheur de rentrer chez soi.Programme :Jack et Nancy (26´) : Par un jour de grand vent\, Jack et Nancy\, suspendus à un parapluie magique\, s’envolent vers une île lointaine. Ils avaient toujours rêvé de partir au bout du monde : les voilà plongés dans la plus extraordinaire des aventures. Mais bientôt\, leur lit douillet\, leurs parents et leur maison leur manquent… Et s’il était temps de rentrer ?Petit Chou (26´) : Par un autre jour de grand vent\, Angèle\, qui ne se passionnait jusqu’ici que pour le jardinage et la pâtisserie\, trouve un minuscule oisillon tombé du ciel. Elle le recueille\, lui fabrique un nid douillet\, le dorlote beaucoup et le nourrit encore plus. Bientôt\, son Petit Chou devient bien trop grand pour vivre dedans… Et s’il était temps de prendre son envol ? \n
URL:https://www.hendaye-culture.fr/fr/evenements/jack-et-nancy-les-plus-belles-histoires-de-quentin-blake-2025-10-15-150000-2/
LOCATION:Cinéma Les Variétés\, 10 rue du Théâtre\, Hendaye\, 64700\, France
CATEGORIES:Cinéma
END:VEVENT
END:VCALENDAR