BEGIN:VCALENDAR
VERSION:2.0
PRODID:-//Hendaye Culture - ECPv4.9.10//NONSGML v1.0//EN
CALSCALE:GREGORIAN
METHOD:PUBLISH
X-WR-CALNAME:Hendaye Culture
X-ORIGINAL-URL:https://www.hendaye-culture.fr
X-WR-CALDESC:Évènements pour Hendaye Culture
BEGIN:VTIMEZONE
TZID:Europe/Paris
BEGIN:DAYLIGHT
TZOFFSETFROM:+0100
TZOFFSETTO:+0200
TZNAME:CEST
DTSTART:20250330T010000
END:DAYLIGHT
BEGIN:STANDARD
TZOFFSETFROM:+0200
TZOFFSETTO:+0100
TZNAME:CET
DTSTART:20251026T010000
END:STANDARD
END:VTIMEZONE
BEGIN:VEVENT
DTSTART;TZID=Europe/Paris:20250623T203000
DTEND;TZID=Europe/Paris:20250623T215900
DTSTAMP:20260421T093809
CREATED:20250614T140133Z
LAST-MODIFIED:20250614T140133Z
UID:54959-1750710600-1750715940@www.hendaye-culture.fr
SUMMARY:La mitad de Ana (VO)
DESCRIPTION:Ana\, une mère divorcée concilie son travail avec l’éducation de sa fille de huit ans\, Son. Lorsque cette dernière se questionne sur son identité de genre\, Ana entreprend un voyage intérieur qui l’amène à se tourner vers la femme qu’elle fut avant d’être mère. \n
URL:https://www.hendaye-culture.fr/fr/evenements/la-mitad-de-ana-2025-06-18-190000-2/
LOCATION:Cinéma Les Variétés\, 10 rue du Théâtre\, Hendaye\, 64700\, France
CATEGORIES:Cinéma
END:VEVENT
END:VCALENDAR