BEGIN:VCALENDAR
VERSION:2.0
PRODID:-//Hendaye Culture - ECPv4.9.10//NONSGML v1.0//EN
CALSCALE:GREGORIAN
METHOD:PUBLISH
X-WR-CALNAME:Hendaye Culture
X-ORIGINAL-URL:https://www.hendaye-culture.fr
X-WR-CALDESC:Évènements pour Hendaye Culture
BEGIN:VTIMEZONE
TZID:Europe/Paris
BEGIN:DAYLIGHT
TZOFFSETFROM:+0100
TZOFFSETTO:+0200
TZNAME:CEST
DTSTART:20260329T010000
END:DAYLIGHT
BEGIN:STANDARD
TZOFFSETFROM:+0200
TZOFFSETTO:+0100
TZNAME:CET
DTSTART:20261025T010000
END:STANDARD
END:VTIMEZONE
BEGIN:VEVENT
DTSTART;TZID=Europe/Paris:20260512T200000
DTEND;TZID=Europe/Paris:20260512T213000
DTSTAMP:20260422T172051
CREATED:20260420T192804Z
LAST-MODIFIED:20260420T192804Z
UID:61777-1778616000-1778621400@www.hendaye-culture.fr
SUMMARY:La Vénus électrique
DESCRIPTION:\nToutes les séances \nMardi 12 mai à 20h\nFilm d’ouverture du Festival de Cannes \n\nDurée 1h30\nDe Pierre Salvadori\nAvec Pio Marmaî\, Anaïs Demoustier\, Gilles Lellouche\nGenre Comédie dramatique \nSYNOPSIS ET DÉTAILS\nDans le Paris des Années folles\, une fausse voyante redonne l’inspiration à un peintre veuf en prétendant invoquer sa défunte épouse. Mais ce qui n’était qu’une imposture lucrative se complique lorsque l’arnaqueuse tombe réellement amoureuse de sa proie. \n
URL:https://www.hendaye-culture.fr/fr/evenements/la-venus-electrique/
LOCATION:Cinéma Les Variétés\, 10 rue du Théâtre\, Hendaye\, 64700\, France
CATEGORIES:Cinéma
ATTACH;FMTTYPE=image/jpeg:https://www.hendaye-culture.fr/wp-content/uploads/sites/2/2026/04/affiche_la_venus_electrique.jpg
END:VEVENT
END:VCALENDAR