BEGIN:VCALENDAR
VERSION:2.0
PRODID:-//Hendaye Culture - ECPv4.9.10//NONSGML v1.0//EN
CALSCALE:GREGORIAN
METHOD:PUBLISH
X-WR-CALNAME:Hendaye Culture
X-ORIGINAL-URL:https://www.hendaye-culture.fr
X-WR-CALDESC:Évènements pour Hendaye Culture
BEGIN:VTIMEZONE
TZID:Europe/Paris
BEGIN:DAYLIGHT
TZOFFSETFROM:+0100
TZOFFSETTO:+0200
TZNAME:CEST
DTSTART:20260329T010000
END:DAYLIGHT
BEGIN:STANDARD
TZOFFSETFROM:+0200
TZOFFSETTO:+0100
TZNAME:CET
DTSTART:20261025T010000
END:STANDARD
END:VTIMEZONE
BEGIN:VEVENT
DTSTART;TZID=Europe/Paris:20260510T150000
DTEND;TZID=Europe/Paris:20260510T165700
DTSTAMP:20260423T041011
CREATED:20260414T164024Z
LAST-MODIFIED:20260414T164024Z
UID:61646-1778425200-1778432220@www.hendaye-culture.fr
SUMMARY:Les Enfants Loups\, Ame & Yuki
DESCRIPTION:Hana\, une jeune femme\, tombe amoureuse d’un homme mystérieux qui se révèle être un "homme-loup". Après sa disparition\, elle élève seule leurs deux enfants\, Ame et Yuki\, héritiers de cette double nature. \n
URL:https://www.hendaye-culture.fr/fr/evenements/les-enfants-loups-ame-yuki-2026-05-06-150000-2/
LOCATION:Cinéma Les Variétés\, 10 rue du Théâtre\, Hendaye\, 64700\, France
CATEGORIES:Cinéma
ATTACH;FMTTYPE=image/jpeg:https://www.hendaye-culture.fr/wp-content/uploads/sites/2/2026/04/def446fcc655c766b0381cd87f2829d2.jpg
END:VEVENT
END:VCALENDAR