BEGIN:VCALENDAR
VERSION:2.0
PRODID:-//Hendaye Culture - ECPv4.9.10//NONSGML v1.0//EN
CALSCALE:GREGORIAN
METHOD:PUBLISH
X-WR-CALNAME:Hendaye Culture
X-ORIGINAL-URL:https://www.hendaye-culture.fr
X-WR-CALDESC:Évènements pour Hendaye Culture
BEGIN:VTIMEZONE
TZID:Europe/Paris
BEGIN:DAYLIGHT
TZOFFSETFROM:+0100
TZOFFSETTO:+0200
TZNAME:CEST
DTSTART:20250330T010000
END:DAYLIGHT
BEGIN:STANDARD
TZOFFSETFROM:+0200
TZOFFSETTO:+0100
TZNAME:CET
DTSTART:20251026T010000
END:STANDARD
END:VTIMEZONE
BEGIN:VEVENT
DTSTART;TZID=Europe/Paris:20251025T194500
DTEND;TZID=Europe/Paris:20251025T210300
DTSTAMP:20260421T154246
CREATED:20251028T222048Z
LAST-MODIFIED:20251028T222048Z
UID:57543-1761421500-1761426180@www.hendaye-culture.fr
SUMMARY:L'Intérêt d'Adam
DESCRIPTION:Face à la détresse d’une jeune mère et son fils\, une infirmière décide de tout mettre en oeuvre pour les aider\, quitte à défier sa hiérarchie. \n
URL:https://www.hendaye-culture.fr/fr/evenements/lintrt-dadam-2025-10-22-190000-3/
LOCATION:Cinéma Les Variétés\, 10 rue du Théâtre\, Hendaye\, 64700\, France
CATEGORIES:Cinéma
END:VEVENT
END:VCALENDAR