BEGIN:VCALENDAR
VERSION:2.0
PRODID:-//Hendaye Culture - ECPv4.9.10//NONSGML v1.0//EN
CALSCALE:GREGORIAN
METHOD:PUBLISH
X-WR-CALNAME:Hendaye Culture
X-ORIGINAL-URL:https://www.hendaye-culture.fr
X-WR-CALDESC:Évènements pour Hendaye Culture
BEGIN:VTIMEZONE
TZID:Europe/Paris
BEGIN:DAYLIGHT
TZOFFSETFROM:+0100
TZOFFSETTO:+0200
TZNAME:CEST
DTSTART:20260329T010000
END:DAYLIGHT
BEGIN:STANDARD
TZOFFSETFROM:+0200
TZOFFSETTO:+0100
TZNAME:CET
DTSTART:20261025T010000
END:STANDARD
END:VTIMEZONE
BEGIN:VEVENT
DTSTART;TZID=Europe/Paris:20260110T164500
DTEND;TZID=Europe/Paris:20260110T185800
DTSTAMP:20260421T152201
CREATED:20251224T112705Z
LAST-MODIFIED:20251224T112705Z
UID:59112-1768063500-1768071480@www.hendaye-culture.fr
SUMMARY:Love Me Tender (VO)
DESCRIPTION:Une fin d’été\, Clémence annonce à son ex-mari qu’elle a des histoires d’amour avec des femmes. Sa vie bascule lorsqu’il lui retire la garde de son fils. Clémence va devoir lutter pour rester mère\, femme\, libre.Librement adapté de l’ouvrage de Constance Debré (Editions Flammarion\, 2020). \n
URL:https://www.hendaye-culture.fr/fr/evenements/love-me-tender-2026-01-09-210000-2/
LOCATION:Cinéma Les Variétés\, 10 rue du Théâtre\, Hendaye\, 64700\, France
CATEGORIES:Cinéma
END:VEVENT
END:VCALENDAR