BEGIN:VCALENDAR
VERSION:2.0
PRODID:-//Hendaye Culture - ECPv4.9.10//NONSGML v1.0//EN
CALSCALE:GREGORIAN
METHOD:PUBLISH
X-WR-CALNAME:Hendaye Culture
X-ORIGINAL-URL:https://www.hendaye-culture.fr
X-WR-CALDESC:Évènements pour Hendaye Culture
BEGIN:VTIMEZONE
TZID:Europe/Paris
BEGIN:DAYLIGHT
TZOFFSETFROM:+0100
TZOFFSETTO:+0200
TZNAME:CEST
DTSTART:20240331T010000
END:DAYLIGHT
BEGIN:STANDARD
TZOFFSETFROM:+0200
TZOFFSETTO:+0100
TZNAME:CET
DTSTART:20241027T010000
END:STANDARD
END:VTIMEZONE
BEGIN:VEVENT
DTSTART;TZID=Europe/Paris:20241116T170000
DTEND;TZID=Europe/Paris:20241116T184400
DTSTAMP:20260423T020703
CREATED:20241029T151642Z
LAST-MODIFIED:20241029T151642Z
UID:50349-1731776400-1731782640@www.hendaye-culture.fr
SUMMARY:Madame Hofmann
DESCRIPTION:"Bienvenue dans ma vie"\, cette phrase\, Sylvie Hofmann la répète à longueur de journée ou presque. Sylvie est cadre infirmière depuis 40 ans à l’hôpital nord de Marseille. Sa vie\, c’est courir. Entre les patients\, sa mère\, son mari et sa fille\, elle consacre ses journées aux autres depuis toujours. Et si elle décidait de penser un peu à elle ? De partir à la retraite ? En a-t-elle le droit\, mais surtout en a-t-elle vraiment envie ? \n
URL:https://www.hendaye-culture.fr/fr/evenements/madame-hofmann-2024-11-13-183000-2/
LOCATION:Cinéma Les Variétés\, 10 rue du Théâtre\, Hendaye\, 64700\, France
CATEGORIES:Cinéma
END:VEVENT
END:VCALENDAR