BEGIN:VCALENDAR
VERSION:2.0
PRODID:-//Hendaye Culture - ECPv4.9.10//NONSGML v1.0//EN
CALSCALE:GREGORIAN
METHOD:PUBLISH
X-WR-CALNAME:Hendaye Culture
X-ORIGINAL-URL:https://www.hendaye-culture.fr
X-WR-CALDESC:Évènements pour Hendaye Culture
BEGIN:VTIMEZONE
TZID:Europe/Paris
BEGIN:DAYLIGHT
TZOFFSETFROM:+0100
TZOFFSETTO:+0200
TZNAME:CEST
DTSTART:20260329T010000
END:DAYLIGHT
BEGIN:STANDARD
TZOFFSETFROM:+0200
TZOFFSETTO:+0100
TZNAME:CET
DTSTART:20261025T010000
END:STANDARD
END:VTIMEZONE
BEGIN:VEVENT
DTSTART;TZID=Europe/Paris:20260119T203000
DTEND;TZID=Europe/Paris:20260119T231300
DTSTAMP:20260421T082224
CREATED:20251224T112716Z
LAST-MODIFIED:20251224T112716Z
UID:59126-1768854600-1768864380@www.hendaye-culture.fr
SUMMARY:Magellan (VO)
DESCRIPTION:Porté par le rêve de franchir les limites du monde\, Magellan défie les rois et les océans. Au bout de son voyage\, c’est sa propre démesure qu’il découvre et le prix de la conquête. Derrière le mythe\, c’est la vérité de son voyage. \n
URL:https://www.hendaye-culture.fr/fr/evenements/magellan-2026-01-18-190000/
LOCATION:Cinéma Les Variétés\, 10 rue du Théâtre\, Hendaye\, 64700\, France
CATEGORIES:Cinéma
END:VEVENT
END:VCALENDAR