BEGIN:VCALENDAR
VERSION:2.0
PRODID:-//Hendaye Culture - ECPv4.9.10//NONSGML v1.0//EN
CALSCALE:GREGORIAN
METHOD:PUBLISH
X-WR-CALNAME:Hendaye Culture
X-ORIGINAL-URL:https://www.hendaye-culture.fr
X-WR-CALDESC:Évènements pour Hendaye Culture
BEGIN:VTIMEZONE
TZID:Europe/Paris
BEGIN:DAYLIGHT
TZOFFSETFROM:+0100
TZOFFSETTO:+0200
TZNAME:CEST
DTSTART:20240331T010000
END:DAYLIGHT
BEGIN:STANDARD
TZOFFSETFROM:+0200
TZOFFSETTO:+0100
TZNAME:CET
DTSTART:20241027T010000
END:STANDARD
END:VTIMEZONE
BEGIN:VEVENT
DTSTART;TZID=Europe/Paris:20241126T143000
DTEND;TZID=Europe/Paris:20241126T152000
DTSTAMP:20260421T094249
CREATED:20241126T204807Z
LAST-MODIFIED:20241126T204807Z
UID:50649-1732631400-1732634400@www.hendaye-culture.fr
SUMMARY:Maman pleut des cordes
DESCRIPTION:Jeanne\, 8 ans\, est une petite fille au caractère bien trempé. Sa mère\, en revanche\, traverse une dépression et doit envoyer sa fille passer les vacances de Noël chez sa Mémé Oignon… Mais Jeanne n’a pas compris ce qui arrive à sa mère et part en traînant les pieds : à la campagne\, il n’y a rien à faire\, et la maison de Mémé pue l’oignon ! Pourtant\, contre toute attente\, les vacances s’avèrent être une véritable aventure.\n\nEn complément de programme :\n\n- Le Monde de Dalia de Javier Navarro Aviles (2020\, 3′) : Dalia découvre avec émerveillement la serre tropicale mais perd rapidement son père de vue. Un monde fantastique se déploie alors devant elle.\n\n- Tout sur maman de Dina Velikovskaya (2015\, 7′) : L’histoire d’une mère qui a déjà tant donné à ses enfants qu’il semble ne lui rester plus rien. Mais la vie lui offre soudain de nouvelles opportunités.\n\n- Le Réveillon des Babouchkas de Natalia Mirzoyan (2019\, 8′) : Maschunya reste à contre-coeur chez sa grand-mère pour fêter le réveillon. La soirée prend vite une autre tournure quand arrivent les invitées… \n
URL:https://www.hendaye-culture.fr/fr/evenements/maman-pleut-des-cordes-2024-11-25-100500-2/
LOCATION:Cinéma Les Variétés\, 10 rue du Théâtre\, Hendaye\, 64700\, France
CATEGORIES:Cinéma
END:VEVENT
END:VCALENDAR