BEGIN:VCALENDAR
VERSION:2.0
PRODID:-//Hendaye Culture - ECPv4.9.10//NONSGML v1.0//EN
CALSCALE:GREGORIAN
METHOD:PUBLISH
X-WR-CALNAME:Hendaye Culture
X-ORIGINAL-URL:https://www.hendaye-culture.fr
X-WR-CALDESC:Évènements pour Hendaye Culture
BEGIN:VTIMEZONE
TZID:Europe/Paris
BEGIN:DAYLIGHT
TZOFFSETFROM:+0100
TZOFFSETTO:+0200
TZNAME:CEST
DTSTART:20250330T010000
END:DAYLIGHT
BEGIN:STANDARD
TZOFFSETFROM:+0200
TZOFFSETTO:+0100
TZNAME:CET
DTSTART:20251026T010000
END:STANDARD
END:VTIMEZONE
BEGIN:VEVENT
DTSTART;TZID=Europe/Paris:20251006T203000
DTEND;TZID=Europe/Paris:20251006T215600
DTSTAMP:20260422T033754
CREATED:20250930T194548Z
LAST-MODIFIED:20250930T194548Z
UID:57068-1759782600-1759787760@www.hendaye-culture.fr
SUMMARY:Miroirs No. 3 (VO)
DESCRIPTION:Lors d’un week-end à la campagne\, Laura\, étudiante à Berlin\, survit miraculeusement à un accident de voiture. Physiquement épargnée mais profondément secouée\, elle est recueillie chez Betty\, qui a été témoin de l’accident et s’occupe d’elle avec affection. Peu à peu\, le mari et le fils de Betty surmontent leur réticence\, et une quiétude quasi familiale s’installe. Mais bientôt\, ils ne peuvent plus ignorer leur passé\, et Laura doit affronter sa propre vie. \n
URL:https://www.hendaye-culture.fr/fr/evenements/miroirs-no-3-2025-10-05-150000/
LOCATION:Cinéma Les Variétés\, 10 rue du Théâtre\, Hendaye\, 64700\, France
CATEGORIES:Cinéma
END:VEVENT
END:VCALENDAR