BEGIN:VCALENDAR
VERSION:2.0
PRODID:-//Hendaye Culture - ECPv4.9.10//NONSGML v1.0//EN
CALSCALE:GREGORIAN
METHOD:PUBLISH
X-WR-CALNAME:Hendaye Culture
X-ORIGINAL-URL:https://www.hendaye-culture.fr
X-WR-CALDESC:Évènements pour Hendaye Culture
BEGIN:VTIMEZONE
TZID:Europe/Paris
BEGIN:DAYLIGHT
TZOFFSETFROM:+0100
TZOFFSETTO:+0200
TZNAME:CEST
DTSTART:20250330T010000
END:DAYLIGHT
BEGIN:STANDARD
TZOFFSETFROM:+0200
TZOFFSETTO:+0100
TZNAME:CET
DTSTART:20251026T010000
END:STANDARD
END:VTIMEZONE
BEGIN:VEVENT
DTSTART;TZID=Europe/Paris:20251020T203000
DTEND;TZID=Europe/Paris:20251020T220600
DTSTAMP:20260421T140850
CREATED:20250930T194742Z
LAST-MODIFIED:20250930T194742Z
UID:57184-1760992200-1760997960@www.hendaye-culture.fr
SUMMARY:Nino
DESCRIPTION:Dans trois jours\, Nino devra affronter une grande épreuve. D’ici là\, les médecins lui ont confié deux missions. Deux impératifs qui vont mener le jeune homme à travers Paris\, le pousser a refaire corps avec les autres et avec lui-même. \n
URL:https://www.hendaye-culture.fr/fr/evenements/nino-2025-10-15-163000-2/
LOCATION:Cinéma Les Variétés\, 10 rue du Théâtre\, Hendaye\, 64700\, France
CATEGORIES:Cinéma
END:VEVENT
END:VCALENDAR