BEGIN:VCALENDAR
VERSION:2.0
PRODID:-//Hendaye Culture - ECPv4.9.10//NONSGML v1.0//EN
CALSCALE:GREGORIAN
METHOD:PUBLISH
X-WR-CALNAME:Hendaye Culture
X-ORIGINAL-URL:https://www.hendaye-culture.fr
X-WR-CALDESC:Évènements pour Hendaye Culture
BEGIN:VTIMEZONE
TZID:Europe/Paris
BEGIN:DAYLIGHT
TZOFFSETFROM:+0100
TZOFFSETTO:+0200
TZNAME:CEST
DTSTART:20250330T010000
END:DAYLIGHT
BEGIN:STANDARD
TZOFFSETFROM:+0200
TZOFFSETTO:+0100
TZNAME:CET
DTSTART:20251026T010000
END:STANDARD
END:VTIMEZONE
BEGIN:VEVENT
DTSTART;TZID=Europe/Paris:20251011T181500
DTEND;TZID=Europe/Paris:20251011T204500
DTSTAMP:20260421T172726
CREATED:20250930T194614Z
LAST-MODIFIED:20250930T194614Z
UID:57096-1760206500-1760215500@www.hendaye-culture.fr
SUMMARY:Oui (VO)
DESCRIPTION:Israël au lendemain du 7 octobre. Y.\, musicien de jazz précaire\, et sa femme Jasmine\, danseuse\, donnent leur art\, leur âme et leur corps aux plus offrants\, apportent plaisir et consolation à leur pays qui saigne. Bientôt\, Y. se voit confier une mission de la plus haute importance : mettre en musique un nouvel hymne national. \n
URL:https://www.hendaye-culture.fr/fr/evenements/oui-2025-10-08-160000-2/
LOCATION:Cinéma Les Variétés\, 10 rue du Théâtre\, Hendaye\, 64700\, France
CATEGORIES:Cinéma
END:VEVENT
END:VCALENDAR