BEGIN:VCALENDAR
VERSION:2.0
PRODID:-//Hendaye Culture - ECPv4.9.10//NONSGML v1.0//EN
CALSCALE:GREGORIAN
METHOD:PUBLISH
X-WR-CALNAME:Hendaye Culture
X-ORIGINAL-URL:https://www.hendaye-culture.fr
X-WR-CALDESC:Évènements pour Hendaye Culture
BEGIN:VTIMEZONE
TZID:Europe/Paris
BEGIN:DAYLIGHT
TZOFFSETFROM:+0100
TZOFFSETTO:+0200
TZNAME:CEST
DTSTART:20250330T010000
END:DAYLIGHT
BEGIN:STANDARD
TZOFFSETFROM:+0200
TZOFFSETTO:+0100
TZNAME:CET
DTSTART:20251026T010000
END:STANDARD
END:VTIMEZONE
BEGIN:VEVENT
DTSTART;TZID=Europe/Paris:20251012T171500
DTEND;TZID=Europe/Paris:20251012T184600
DTSTAMP:20260421T140253
CREATED:20250930T194623Z
LAST-MODIFIED:20250930T194623Z
UID:57108-1760289300-1760294760@www.hendaye-culture.fr
SUMMARY:Regarde
DESCRIPTION:Chris et Antoine ont bien du mal à s’entendre depuis leur divorce. Mais\, lorsqu’on leur annonce que leur fils de 16 ans est atteint d’une maladie rare\, qui va lui faire perdre la vue\, ils s’efforcent de mettre leurs rancoeurs de côté. Les ex-conjoints embarquent leur fils pour des vacances inoubliables\, bien décidés à lui offrir ses plus beaux souvenirs. \n
URL:https://www.hendaye-culture.fr/fr/evenements/regarde-2025-10-08-210000-2/
LOCATION:Cinéma Les Variétés\, 10 rue du Théâtre\, Hendaye\, 64700\, France
CATEGORIES:Cinéma
END:VEVENT
END:VCALENDAR