BEGIN:VCALENDAR
VERSION:2.0
PRODID:-//Hendaye Culture - ECPv4.9.10//NONSGML v1.0//EN
CALSCALE:GREGORIAN
METHOD:PUBLISH
X-WR-CALNAME:Hendaye Culture
X-ORIGINAL-URL:https://www.hendaye-culture.fr
X-WR-CALDESC:Évènements pour Hendaye Culture
BEGIN:VTIMEZONE
TZID:Europe/Paris
BEGIN:DAYLIGHT
TZOFFSETFROM:+0100
TZOFFSETTO:+0200
TZNAME:CEST
DTSTART:20260329T010000
END:DAYLIGHT
BEGIN:STANDARD
TZOFFSETFROM:+0200
TZOFFSETTO:+0100
TZNAME:CET
DTSTART:20261025T010000
END:STANDARD
END:VTIMEZONE
BEGIN:VEVENT
DTSTART;TZID=Europe/Paris:20260115T183000
DTEND;TZID=Europe/Paris:20260115T193000
DTSTAMP:20260419T140008
CREATED:20251216T141806Z
LAST-MODIFIED:20260115T124443Z
UID:58356-1768501800-1768505400@www.hendaye-culture.fr
SUMMARY:SORTIE DE RÉSIDENCE : Femme hérisson
DESCRIPTION:\n—– COMPLET / SARRERAK AGORTUTA —–\n\nMARIYA ANEVA – LE PETIT THÉÂTRE DE PAIN\nÀ partir de 15 ans / 15 urtez gorakoentzat\nEn français / Frantsesez\nUne femme d’une quarantaine d’années est appelée en urgence au service de transplantation pour « bénéficier » d’une greffe. Au-delà du vécu de la chambre stérile\, où « on ne reconnaît pas le jour de la nuit »\, au-delà de l’expérience de l’univers de « l’hôpital-ville »\, il s’agit d’un voyage entre plusieurs vies cumulées en elle\, liées à son identité multiple\, aux différentes périodes de sa vie mais également à celles de l’Histoire. Au fil du récit\, d’autres greffes se révèlent : linguistiques\, culturelles\, affectives. \n\nBerrogei bat urteko emazte bat deitzen dute larrialdiz transplante zerbitzura\, txerto bat ukan dezan. Ganbera esterilean bizitakoaz haratago\, non “eguna gauarekin nahasten baita”\, “hiri-ospitalea” munduko esperientziaz haratago\, bere baitan metaturiko bizi bat baino gehiagoren arteko bidaia da\, nortasun anitzari lotuak\, bizi garai eta Historiako garai desberdinei lotuak. Kontakizuna aitzinatu ahala\, beste txerto batzuk agertzen dira: hizkuntza\, kultura\, amultsutasun mailakoak.  \n\nSuivi d’une discussion / Ondotik: eztabaida \nRÉSERVATIONS ICI / ERRESERBAK HEMEN \n\n\n\n\n
URL:https://www.hendaye-culture.fr/fr/evenements/sortie-de-residence-femme-herisson/
LOCATION:Mendi Zolan\, 119 Pl. du Port\, Hendaye\, 64700\, France
CATEGORIES:Musique,Théâtre
ATTACH;FMTTYPE=image/jpeg:https://www.hendaye-culture.fr/wp-content/uploads/sites/2/2025/12/femme-herisson-COMPLET.jpg
END:VEVENT
END:VCALENDAR