BEGIN:VCALENDAR
VERSION:2.0
PRODID:-//Hendaye Culture - ECPv4.9.10//NONSGML v1.0//EN
CALSCALE:GREGORIAN
METHOD:PUBLISH
X-WR-CALNAME:Hendaye Culture
X-ORIGINAL-URL:https://www.hendaye-culture.fr
X-WR-CALDESC:Évènements pour Hendaye Culture
BEGIN:VTIMEZONE
TZID:Europe/Paris
BEGIN:DAYLIGHT
TZOFFSETFROM:+0100
TZOFFSETTO:+0200
TZNAME:CEST
DTSTART:20240331T010000
END:DAYLIGHT
BEGIN:STANDARD
TZOFFSETFROM:+0200
TZOFFSETTO:+0100
TZNAME:CET
DTSTART:20241027T010000
END:STANDARD
END:VTIMEZONE
BEGIN:VEVENT
DTSTART;TZID=Europe/Paris:20241116T190000
DTEND;TZID=Europe/Paris:20241116T205600
DTSTAMP:20260423T004350
CREATED:20241029T151547Z
LAST-MODIFIED:20241029T151547Z
UID:50319-1731783600-1731790560@www.hendaye-culture.fr
SUMMARY:Sur un fil
DESCRIPTION:Jo\, une jeune femme\, artiste de cirque de rue\, découvre le travail des clowns professionnels de "Nez pour rire". Vite – peut-être trop vite – entrée dans l’association\, elle se retrouve à l’hôpital au contact des enfants\, des malades\, des soignants et des familles\, à qui ces clowns tentent inlassablement d’apporter de la joie et du réconfort. \n
URL:https://www.hendaye-culture.fr/fr/evenements/sur-un-fil-2024-11-15-210000-2/
LOCATION:Cinéma Les Variétés\, 10 rue du Théâtre\, Hendaye\, 64700\, France
CATEGORIES:Cinéma
END:VEVENT
END:VCALENDAR