BEGIN:VCALENDAR
VERSION:2.0
PRODID:-//Hendaye Culture - ECPv4.9.10//NONSGML v1.0//EN
CALSCALE:GREGORIAN
METHOD:PUBLISH
X-WR-CALNAME:Hendaye Culture
X-ORIGINAL-URL:https://www.hendaye-culture.fr
X-WR-CALDESC:Évènements pour Hendaye Culture
BEGIN:VTIMEZONE
TZID:Europe/Paris
BEGIN:DAYLIGHT
TZOFFSETFROM:+0100
TZOFFSETTO:+0200
TZNAME:CEST
DTSTART:20240331T010000
END:DAYLIGHT
BEGIN:STANDARD
TZOFFSETFROM:+0200
TZOFFSETTO:+0100
TZNAME:CET
DTSTART:20241027T010000
END:STANDARD
END:VTIMEZONE
BEGIN:VEVENT
DTSTART;TZID=Europe/Paris:20241007T203000
DTEND;TZID=Europe/Paris:20241007T221300
DTSTAMP:20260421T072441
CREATED:20240911T121913Z
LAST-MODIFIED:20240911T121913Z
UID:49502-1728333000-1728339180@www.hendaye-culture.fr
SUMMARY:Tatami (VO)
DESCRIPTION:La judokate iranienne Leila et son entraîneuse Maryam se rendent aux Championnats du monde de judo avec l’intention de ramener sa première médaille d’or à l’Iran. Mais au cours de la compétition\, elles reçoivent un ultimatum de la République islamique ordonnant à Leila de simuler une blessure et d’abandonner pour éviter une possible confrontation avec l’athlète israélienne. Sa liberté et celle de sa famille étant en jeu\, Leila se retrouve face à un choix impossible : se plier au régime iranien\, comme l’implore son entraîneuse\, ou se battre pour réaliser son rêve. \n
URL:https://www.hendaye-culture.fr/fr/evenements/tatami-2024-10-05-180000/
LOCATION:Cinéma Les Variétés\, 10 rue du Théâtre\, Hendaye\, 64700\, France
CATEGORIES:Cinéma
END:VEVENT
END:VCALENDAR