BEGIN:VCALENDAR
VERSION:2.0
PRODID:-//Hendaye Culture - ECPv4.9.10//NONSGML v1.0//EN
CALSCALE:GREGORIAN
METHOD:PUBLISH
X-WR-CALNAME:Hendaye Culture
X-ORIGINAL-URL:https://www.hendaye-culture.fr
X-WR-CALDESC:Évènements pour Hendaye Culture
BEGIN:VTIMEZONE
TZID:Europe/Paris
BEGIN:DAYLIGHT
TZOFFSETFROM:+0100
TZOFFSETTO:+0200
TZNAME:CEST
DTSTART:20250330T010000
END:DAYLIGHT
BEGIN:STANDARD
TZOFFSETFROM:+0200
TZOFFSETTO:+0100
TZNAME:CET
DTSTART:20251026T010000
END:STANDARD
END:VTIMEZONE
BEGIN:VEVENT
DTSTART;TZID=Europe/Paris:20250712T170000
DTEND;TZID=Europe/Paris:20250712T185800
DTSTAMP:20260421T215511
CREATED:20250709T140649Z
LAST-MODIFIED:20250709T140650Z
UID:55495-1752339600-1752346680@www.hendaye-culture.fr
SUMMARY:The Return\, le retour d'Ulysse (VO)
DESCRIPTION:De retour de la guerre de Troie après 20 ans d’absence\, Ulysse échoue sur les côtes d’Ithaque\, son ancien royaume. Sa femme Pénélope\, restée fidèle\, y vit prisonnière de sa propre demeure\, repoussant tous les prétendants à la couronne. Télémaque\, leur fils\, qui n’a jamais connu son père\, devient lui un obstacle pour ceux qui veulent s’emparer du pouvoir. \n
URL:https://www.hendaye-culture.fr/fr/evenements/the-return-le-retour-dulysse-2025-07-10-210000-2/
LOCATION:Cinéma Les Variétés\, 10 rue du Théâtre\, Hendaye\, 64700\, France
CATEGORIES:Cinéma
END:VEVENT
END:VCALENDAR