BEGIN:VCALENDAR
VERSION:2.0
PRODID:-//Hendaye Culture - ECPv4.9.10//NONSGML v1.0//EN
CALSCALE:GREGORIAN
METHOD:PUBLISH
X-WR-CALNAME:Hendaye Culture
X-ORIGINAL-URL:https://www.hendaye-culture.fr
X-WR-CALDESC:Évènements pour Hendaye Culture
BEGIN:VTIMEZONE
TZID:Europe/Paris
BEGIN:DAYLIGHT
TZOFFSETFROM:+0100
TZOFFSETTO:+0200
TZNAME:CEST
DTSTART:20250330T010000
END:DAYLIGHT
BEGIN:STANDARD
TZOFFSETFROM:+0200
TZOFFSETTO:+0100
TZNAME:CET
DTSTART:20251026T010000
END:STANDARD
END:VTIMEZONE
BEGIN:VEVENT
DTSTART;TZID=Europe/Paris:20251027T150000
DTEND;TZID=Europe/Paris:20251027T154100
DTSTAMP:20260422T041354
CREATED:20251028T221959Z
LAST-MODIFIED:20251028T221959Z
UID:57509-1761577200-1761579660@www.hendaye-culture.fr
SUMMARY:Timioche
DESCRIPTION:Le petit poisson qui racontait des histoires… Timioche\, un petit poisson toujours en retard\, adore inventer des excuses\, souvent plus grosses que lui ! Jusqu’au jour où une mésaventure lui arrive vraiment…D’après l’album illustré de Julia Donaldson et Axel Scheffler.Programme :Timioche d’Alex Bain et Andy Martin (Angleterre\, 2024\, 23′) : Timioche\, un petit poisson toujours en retard\, adore inventer des excuses\, souvent plus grosses que lui ! Jusqu’au jour où une mésaventure lui arrive vraiment…Ummi et Zaki de Daniela Opp (Allemagne\, 2024\, 4′) : « Maintenant\, nous sommes amies pour la vie » dit Zaki l’araignée à Ummi\, la petite hippopotame qui vient de la sauver des eaux. Mais Ummi n’est pas sûre qu’elle soit vraiment l’amie dont elle a rêvé…Petit poisson de Sergei Ryabov (Russie\, 2007\, 9′) : Après s’être fait attraper par un vieux pêcheur\, un petit poisson reprend vie grâce à une fillette qui croit en lui.Le Poisson-ballon de Julia Ocker (Allemagne\, 2022\, 4′) : L’océan est rempli de poissons menaçants et le petit poisson-ballon se gonfle\, se gonfle pour paraître plus grand\, plus fort et ne pas se laisser intimider. \n
URL:https://www.hendaye-culture.fr/fr/evenements/timioche-2025-10-22-150000-3/
LOCATION:Cinéma Les Variétés\, 10 rue du Théâtre\, Hendaye\, 64700\, France
CATEGORIES:Cinéma
END:VEVENT
END:VCALENDAR