BEGIN:VCALENDAR
VERSION:2.0
PRODID:-//Hendaye Culture - ECPv4.9.10//NONSGML v1.0//EN
CALSCALE:GREGORIAN
METHOD:PUBLISH
X-WR-CALNAME:Hendaye Culture
X-ORIGINAL-URL:https://www.hendaye-culture.fr
X-WR-CALDESC:Évènements pour Hendaye Culture
BEGIN:VTIMEZONE
TZID:Europe/Paris
BEGIN:DAYLIGHT
TZOFFSETFROM:+0100
TZOFFSETTO:+0200
TZNAME:CEST
DTSTART:20250330T010000
END:DAYLIGHT
BEGIN:STANDARD
TZOFFSETFROM:+0200
TZOFFSETTO:+0100
TZNAME:CET
DTSTART:20251026T010000
END:STANDARD
END:VTIMEZONE
BEGIN:VEVENT
DTSTART;TZID=Europe/Paris:20251013T183000
DTEND;TZID=Europe/Paris:20251013T195200
DTSTAMP:20260421T171156
CREATED:20250930T194603Z
LAST-MODIFIED:20250930T194603Z
UID:57086-1760380200-1760385120@www.hendaye-culture.fr
SUMMARY:TKT
DESCRIPTION:Alors qu’Emma\, 16 ans\, une jeune fille heureuse dans sa vie\, est admise dans l’unité de soins intensifs de l’hôpital\, ses parents Meredith et Fred attendent anxieusement des nouvelles du médecin. Désemparés\, ils prennent conscience que malgré tous les "T’inquiète" de leur fille\, ils auraient dû s’inquiéter. Que lui est-il arrivé ? Entre amitiés toxiques\, isolement\, messages\, moqueries et humiliation\, la vie d’Emma a rapidement basculé dans une spirale infernale. \n
URL:https://www.hendaye-culture.fr/fr/evenements/tkt-2025-10-12-153000/
LOCATION:Cinéma Les Variétés\, 10 rue du Théâtre\, Hendaye\, 64700\, France
CATEGORIES:Cinéma
END:VEVENT
END:VCALENDAR