BEGIN:VCALENDAR
VERSION:2.0
PRODID:-//Hendaye Culture - ECPv4.9.10//NONSGML v1.0//EN
CALSCALE:GREGORIAN
METHOD:PUBLISH
X-WR-CALNAME:Hendaye Culture
X-ORIGINAL-URL:https://www.hendaye-culture.fr
X-WR-CALDESC:Évènements pour Hendaye Culture
BEGIN:VTIMEZONE
TZID:Europe/Paris
BEGIN:DAYLIGHT
TZOFFSETFROM:+0100
TZOFFSETTO:+0200
TZNAME:CEST
DTSTART:20240331T010000
END:DAYLIGHT
BEGIN:STANDARD
TZOFFSETFROM:+0200
TZOFFSETTO:+0100
TZNAME:CET
DTSTART:20241027T010000
END:STANDARD
END:VTIMEZONE
BEGIN:VEVENT
DTSTART;TZID=Europe/Paris:20240729T150000
DTEND;TZID=Europe/Paris:20240729T163900
DTSTAMP:20260421T081258
CREATED:20240711T152617Z
LAST-MODIFIED:20240711T152617Z
UID:48212-1722265200-1722271140@www.hendaye-culture.fr
SUMMARY:Un p'tit truc en plus
DESCRIPTION:Pour échapper à la police\, un fils et son père en cavale sont contraints de trouver refuge dans une colonie de vacances pour jeunes adultes en situation de handicap\, se faisant passer pour un pensionnaire et son éducateur spécialisé. Le début des emmerdes et d’une formidable expérience humaine qui va les changer à jamais. \n
URL:https://www.hendaye-culture.fr/fr/evenements/un-ptit-truc-en-plus-2024-07-28-150000/
LOCATION:Cinéma Les Variétés\, 10 rue du Théâtre\, Hendaye\, 64700\, France
CATEGORIES:Cinéma
END:VEVENT
END:VCALENDAR