BEGIN:VCALENDAR
VERSION:2.0
PRODID:-//Hendaye Culture - ECPv4.9.10//NONSGML v1.0//EN
CALSCALE:GREGORIAN
METHOD:PUBLISH
X-WR-CALNAME:Hendaye Culture
X-ORIGINAL-URL:https://www.hendaye-culture.fr
X-WR-CALDESC:Évènements pour Hendaye Culture
BEGIN:VTIMEZONE
TZID:Europe/Paris
BEGIN:DAYLIGHT
TZOFFSETFROM:+0100
TZOFFSETTO:+0200
TZNAME:CEST
DTSTART:20250330T010000
END:DAYLIGHT
BEGIN:STANDARD
TZOFFSETFROM:+0200
TZOFFSETTO:+0100
TZNAME:CET
DTSTART:20251026T010000
END:STANDARD
END:VTIMEZONE
BEGIN:VEVENT
DTSTART;TZID=Europe/Paris:20251024T210000
DTEND;TZID=Europe/Paris:20251024T234200
DTSTAMP:20260421T220403
CREATED:20251028T222033Z
LAST-MODIFIED:20251028T222033Z
UID:57535-1761339600-1761349320@www.hendaye-culture.fr
SUMMARY:Une bataille après l'autre (VO)
DESCRIPTION:Ancien révolutionnaire désabusé et paranoïaque\, Bob vit en marge de la société\, avec sa fille Willa\, indépendante et pleine de ressources. Quand son ennemi juré refait surface après 16 ans et que Willa disparaît\, Bob remue ciel et terre pour la retrouver\, affrontant pour la première fois les conséquences de son passé… \n
URL:https://www.hendaye-culture.fr/fr/evenements/une-bataille-aprs-lautre-2025-10-28-210000-2/
LOCATION:Cinéma Les Variétés\, 10 rue du Théâtre\, Hendaye\, 64700\, France
CATEGORIES:Cinéma
END:VEVENT
END:VCALENDAR