BEGIN:VCALENDAR
VERSION:2.0
PRODID:-//Hendaye Culture - ECPv4.9.10//NONSGML v1.0//EN
CALSCALE:GREGORIAN
METHOD:PUBLISH
X-WR-CALNAME:Hendaye Culture
X-ORIGINAL-URL:https://www.hendaye-culture.fr
X-WR-CALDESC:Évènements pour Hendaye Culture
BEGIN:VTIMEZONE
TZID:Europe/Paris
BEGIN:DAYLIGHT
TZOFFSETFROM:+0100
TZOFFSETTO:+0200
TZNAME:CEST
DTSTART:20240331T010000
END:DAYLIGHT
BEGIN:STANDARD
TZOFFSETFROM:+0200
TZOFFSETTO:+0100
TZNAME:CET
DTSTART:20241027T010000
END:STANDARD
END:VTIMEZONE
BEGIN:VEVENT
DTSTART;TZID=Europe/Paris:20240314T183000
DTEND;TZID=Europe/Paris:20240314T183000
DTSTAMP:20260421T122909
CREATED:20240304T135315Z
LAST-MODIFIED:20240304T135315Z
UID:45161-1710441000-1710441000@www.hendaye-culture.fr
SUMMARY:« Vivre et apprendre en plusieurs langues » 
DESCRIPTION:Ce documentaire essaie de présenter le projet expérimental mené au collège Irandatz pendant 2 ans autour de la diversité des langues dans son contexte frontalier. \nLes témoignages de la communauté éducative éclairent à la fois la richesse du plurilinguisme à Hendaye et la manière dont on peut en tirer parti au profit des élèves. \nAutour de cette projection\, Marielle Rispail et Joaquim Dolz\, chercheur.e.s en socio-didactique\, interviendront pour apporter le regard de la recherche suivi d’échanges avec le public. \n                        \n  \n
URL:https://www.hendaye-culture.fr/fr/evenements/vivre-et-apprendre-en-plusieurs-langues-2/
LOCATION:Cinéma Les Variétés\, 10 rue du Théâtre\, Hendaye\, 64700\, France
CATEGORIES:Cinéma
ATTACH;FMTTYPE=image/jpeg:https://www.hendaye-culture.fr/wp-content/uploads/sites/2/2024/03/affiche_fr.jpg
END:VEVENT
END:VCALENDAR