BEGIN:VCALENDAR
VERSION:2.0
PRODID:-//Hendaye Culture - ECPv4.9.10//NONSGML v1.0//EN
CALSCALE:GREGORIAN
METHOD:PUBLISH
X-WR-CALNAME:Hendaye Culture
X-ORIGINAL-URL:https://www.hendaye-culture.fr
X-WR-CALDESC:Évènements pour Hendaye Culture
BEGIN:VTIMEZONE
TZID:Europe/Paris
BEGIN:DAYLIGHT
TZOFFSETFROM:+0100
TZOFFSETTO:+0200
TZNAME:CEST
DTSTART:20260329T010000
END:DAYLIGHT
BEGIN:STANDARD
TZOFFSETFROM:+0200
TZOFFSETTO:+0100
TZNAME:CET
DTSTART:20261025T010000
END:STANDARD
END:VTIMEZONE
BEGIN:VEVENT
DTSTART;TZID=Europe/Paris:20260511T160000
DTEND;TZID=Europe/Paris:20260511T180800
DTSTAMP:20260422T233619
CREATED:20260414T164022Z
LAST-MODIFIED:20260414T164022Z
UID:61642-1778515200-1778522880@www.hendaye-culture.fr
SUMMARY:Yellow Letters (VO)
DESCRIPTION:Professeur à la faculté d’Ankara\, Aziz reçoit la « lettre jaune » qui lui signifie arbitrairement sa révocation. Quand sa femme Derya\, célèbre comédienne au théâtre national\, la reçoit à son tour\, c’est le coup de grâce pour le couple. L’un et l’autre\, condamnés pour leurs idées\, sont obligés de se réfugier à Istanbul chez la mère d’Aziz. Le compromis entre cette précarité nouvelle et leur engagement politique va mettre leur mariage à l’épreuve. \n
URL:https://www.hendaye-culture.fr/fr/evenements/yellow-letters-2026-05-09-210000-2/
LOCATION:Cinéma Les Variétés\, 10 rue du Théâtre\, Hendaye\, 64700\, France
CATEGORIES:Cinéma
ATTACH;FMTTYPE=image/jpeg:https://www.hendaye-culture.fr/wp-content/uploads/sites/2/2026/04/99847f650a17daf40f38ca6cd45eb86a.jpg
END:VEVENT
END:VCALENDAR