BEGIN:VCALENDAR
VERSION:2.0
PRODID:-//Hendaye Culture - ECPv4.9.10//NONSGML v1.0//EN
CALSCALE:GREGORIAN
METHOD:PUBLISH
X-WR-CALNAME:Hendaye Culture
X-ORIGINAL-URL:https://www.hendaye-culture.fr
X-WR-CALDESC:Évènements pour Hendaye Culture
BEGIN:VTIMEZONE
TZID:Europe/Paris
BEGIN:DAYLIGHT
TZOFFSETFROM:+0100
TZOFFSETTO:+0200
TZNAME:CEST
DTSTART:20260329T010000
END:DAYLIGHT
BEGIN:STANDARD
TZOFFSETFROM:+0200
TZOFFSETTO:+0100
TZNAME:CET
DTSTART:20261025T010000
END:STANDARD
END:VTIMEZONE
BEGIN:VEVENT
DTSTART;TZID=Europe/Paris:20260103T150000
DTEND;TZID=Europe/Paris:20260103T164800
DTSTAMP:20260421T122910
CREATED:20251224T112640Z
LAST-MODIFIED:20251224T112640Z
UID:59080-1767452400-1767458880@www.hendaye-culture.fr
SUMMARY:Zootopie 2
DESCRIPTION:ZOOTOPIE 2 permettra de retrouver le savoureux duo de choc formé par les jeunes policiers Judy Hopps et Nick Wilde\, qui\, après avoir résolu la plus grande affaire criminelle de l’histoire de Zootopie\, découvrent que leur collaboration n’est pas aussi solide qu’ils le pensaient lorsque le chef Bogo leur ordonne de participer à un programme de thérapie réservé aux coéquipiers en crise. Leur partenariat sera même soumis à rude épreuve lorsqu’ils devront éclaircir – sous couverture et dans des quartiers inconnus de la ville – un nouveau mystère et s’engager sur la piste sinueuse d’un serpent venimeux fraîchement arrivé dans la cité animale… \n
URL:https://www.hendaye-culture.fr/fr/evenements/zootopie-2-2026-01-02-150000-2/
LOCATION:Cinéma Les Variétés\, 10 rue du Théâtre\, Hendaye\, 64700\, France
CATEGORIES:Cinéma
END:VEVENT
END:VCALENDAR